BEGIN:VCALENDAR
VERSION:2.0
PRODID:-//Northeastern New York - ECPv6.15.20//NONSGML v1.0//EN
CALSCALE:GREGORIAN
METHOD:PUBLISH
X-ORIGINAL-URL:https://neny.pga.com
X-WR-CALDESC:Events for Northeastern New York
REFRESH-INTERVAL;VALUE=DURATION:PT1H
X-Robots-Tag:noindex
X-PUBLISHED-TTL:PT1H
BEGIN:VTIMEZONE
TZID:UTC
BEGIN:STANDARD
TZOFFSETFROM:+0000
TZOFFSETTO:+0000
TZNAME:UTC
DTSTART:20190101T000000
END:STANDARD
END:VTIMEZONE
BEGIN:VEVENT
DTSTART;TZID=UTC:20200204T093000
DTEND;TZID=UTC:20200204T113000
DTSTAMP:20260420T231322
CREATED:20200416T153439Z
LAST-MODIFIED:20200418T161622Z
UID:10000304-1580808600-1580815800@neny.pga.com
SUMMARY:Board Meeting in Office
DESCRIPTION:
URL:https://neny.pga.com/event/board-meeting-in-office/
END:VEVENT
END:VCALENDAR