BEGIN:VCALENDAR
VERSION:2.0
PRODID:-//Northeastern New York - ECPv6.15.20//NONSGML v1.0//EN
CALSCALE:GREGORIAN
METHOD:PUBLISH
X-ORIGINAL-URL:https://neny.pga.com
X-WR-CALDESC:Events for Northeastern New York
REFRESH-INTERVAL;VALUE=DURATION:PT1H
X-Robots-Tag:noindex
X-PUBLISHED-TTL:PT1H
BEGIN:VTIMEZONE
TZID:UTC
BEGIN:STANDARD
TZOFFSETFROM:+0000
TZOFFSETTO:+0000
TZNAME:UTC
DTSTART:20190101T000000
END:STANDARD
END:VTIMEZONE
BEGIN:VEVENT
DTSTART;TZID=UTC:20200303T000000
DTEND;TZID=UTC:20200303T000000
DTSTAMP:20260422T035615
CREATED:20200416T153442Z
LAST-MODIFIED:20200418T161623Z
UID:10000313-1583193600-1583193600@neny.pga.com
SUMMARY:Education Day
DESCRIPTION:
URL:https://neny.pga.com/event/education-day-2/
END:VEVENT
BEGIN:VEVENT
DTSTART;TZID=UTC:20200307T000000
DTEND;TZID=UTC:20200308T000000
DTSTAMP:20260422T035615
CREATED:20200416T153442Z
LAST-MODIFIED:20200418T161624Z
UID:10000314-1583539200-1583625600@neny.pga.com
SUMMARY:Empire Golf Expo
DESCRIPTION:
URL:https://neny.pga.com/event/empire-golf-expo/
END:VEVENT
BEGIN:VEVENT
DTSTART;TZID=UTC:20200310T093000
DTEND;TZID=UTC:20200310T113000
DTSTAMP:20260422T035615
CREATED:20200416T153443Z
LAST-MODIFIED:20200418T161624Z
UID:10000316-1583832600-1583839800@neny.pga.com
SUMMARY:Board Meeting in Office
DESCRIPTION:
URL:https://neny.pga.com/event/board-meeting-in-office-2/
END:VEVENT
BEGIN:VEVENT
DTSTART;TZID=UTC:20200311T000000
DTEND;TZID=UTC:20200311T000000
DTSTAMP:20260422T035615
CREATED:20200416T153443Z
LAST-MODIFIED:20200418T161624Z
UID:10000318-1583884800-1583884800@neny.pga.com
SUMMARY:PGA Hope Training Day
DESCRIPTION:
URL:https://neny.pga.com/event/pga-hope-training-day/
END:VEVENT
BEGIN:VEVENT
DTSTART;TZID=UTC:20200314T000000
DTEND;TZID=UTC:20200314T000000
DTSTAMP:20260422T035615
CREATED:20200416T153443Z
LAST-MODIFIED:20200418T161624Z
UID:10000320-1584144000-1584144000@neny.pga.com
SUMMARY:Rich Scott Leaves
DESCRIPTION:
URL:https://neny.pga.com/event/rich-scott-leaves/
END:VEVENT
BEGIN:VEVENT
DTSTART;TZID=UTC:20200316T000000
DTEND;TZID=UTC:20200316T000000
DTSTAMP:20260422T035615
CREATED:20200416T153443Z
LAST-MODIFIED:20200418T161624Z
UID:10000322-1584316800-1584316800@neny.pga.com
SUMMARY:PGA Hope Training Day
DESCRIPTION:
URL:https://neny.pga.com/event/pga-hope-training-day-2/
END:VEVENT
BEGIN:VEVENT
DTSTART;TZID=UTC:20200325T000000
DTEND;TZID=UTC:20200325T000000
DTSTAMP:20260422T035615
CREATED:20200416T153445Z
LAST-MODIFIED:20200418T161624Z
UID:10000240-1585094400-1585094400@neny.pga.com
SUMMARY:PGA Hope Training Day
DESCRIPTION:
URL:https://neny.pga.com/event/pga-hope-training-day-3/
END:VEVENT
BEGIN:VEVENT
DTSTART;TZID=UTC:20200326T000000
DTEND;TZID=UTC:20200326T000000
DTSTAMP:20260422T035615
CREATED:20200416T153445Z
LAST-MODIFIED:20200418T161625Z
UID:10000241-1585180800-1585180800@neny.pga.com
SUMMARY:Rich Scott Returns
DESCRIPTION:
URL:https://neny.pga.com/event/rich-scott-returns/
END:VEVENT
END:VCALENDAR