BEGIN:VCALENDAR
VERSION:2.0
PRODID:-//Northeastern New York - ECPv6.15.20//NONSGML v1.0//EN
CALSCALE:GREGORIAN
METHOD:PUBLISH
X-WR-CALNAME:Northeastern New York
X-ORIGINAL-URL:https://neny.pga.com
X-WR-CALDESC:Events for Northeastern New York
REFRESH-INTERVAL;VALUE=DURATION:PT1H
X-Robots-Tag:noindex
X-PUBLISHED-TTL:PT1H
BEGIN:VTIMEZONE
TZID:UTC
BEGIN:STANDARD
TZOFFSETFROM:+0000
TZOFFSETTO:+0000
TZNAME:UTC
DTSTART:20200101T000000
END:STANDARD
END:VTIMEZONE
BEGIN:VEVENT
DTSTART;TZID=UTC:20210628T080000
DTEND;TZID=UTC:20210628T170000
DTSTAMP:20260422T112627
CREATED:20210311T194044Z
LAST-MODIFIED:20210311T194044Z
UID:10000453-1624867200-1624899600@neny.pga.com
SUMMARY:Pro Classic #3
DESCRIPTION:Click Here for more information and registration.
URL:https://neny.pga.com/event/pro-classic-3-3/
LOCATION:Leatherstocking Golf Course
END:VEVENT
BEGIN:VEVENT
DTSTART;TZID=UTC:20210508T100000
DTEND;TZID=UTC:20210509T170000
DTSTAMP:20260422T112627
CREATED:20210310T185615Z
LAST-MODIFIED:20210310T185615Z
UID:10000436-1620468000-1620579600@neny.pga.com
SUMMARY:NYS State PGA Junior Championship - Fore Tour Series
DESCRIPTION:Click Here for more information and registration.
URL:https://neny.pga.com/event/nys-state-pga-junior-championship-fore-tour-series/
LOCATION:Leatherstocking Golf Course
END:VEVENT
END:VCALENDAR